BEGIN:VCALENDAR
VERSION:2.0
PRODID:-//ChamberMaster//Event Calendar 2.0//EN
METHOD:PUBLISH
X-PUBLISHED-TTL:P3D
REFRESH-INTERVAL:P3D
CALSCALE:GREGORIAN
BEGIN:VEVENT
DTSTART:20231124T180000Z
DTEND:20231124T230000Z
X-MICROSOFT-CDO-ALLDAYEVENT:FALSE
SUMMARY:Holly Days with Santa
DESCRIPTION:Our 8th annual Holly Days with Santa! Fri.\, Nov. 24 Noon to 5pm & Sat.\, Nov. 25 10am to 4pm at the New Ulm Best Western. Come and join us for some great fun. Craft & Vendor show Kids Activities with R.A.W.R. FREE Treats & Drinks Gift Table Pictures with Santa & Mrs. Claus
X-ALT-DESC;FMTTYPE=text/html:Our 8th annual Holly Days with Santa! Fri.\, Nov. 24 Noon to 5pm &amp\; Sat.\, Nov. 25 10am to 4pm at the New Ulm Best Western. Come and join us for some great fun. Craft &amp\; Vendor show Kids Activities with R.A.W.R. FREE Treats &amp\; Drinks Gift Table Pictures with Santa &amp\; Mrs. Claus
LOCATION:New Ulm Best Western
UID:e.18.46544
SEQUENCE:3
DTSTAMP:20260421T220024Z
URL:http://business.newulm.com/events/details/holly-days-with-santa-11-24-2023-46544
END:VEVENT

END:VCALENDAR
