BEGIN:VCALENDAR
VERSION:2.0
PRODID:-//ChamberMaster//Event Calendar 2.0//EN
METHOD:PUBLISH
X-PUBLISHED-TTL:P3D
REFRESH-INTERVAL:P3D
CALSCALE:GREGORIAN
BEGIN:VEVENT
DTSTART;VALUE=DATE:20220910
DTEND;VALUE=DATE:20220911
TRANSP:TRANSPARENT
X-MICROSOFT-CDO-ALLDAYEVENT:TRUE
SUMMARY:Hermann Fest
DESCRIPTION:Join us for a celebration at Hermann the German! The party is held at Hermann Heights Park in the shadow of the 102 foot monument\, and below in Harman Park. \n\nDance to live German music throughout the day\, snack on some German and American food\, and refresh with Schell's beer and 1919 Root Beer - on tap all day!\n\nFestivities begin at 11:30 am
X-ALT-DESC;FMTTYPE=text/html:Join us for a celebration at Hermann the German! The party is held at Hermann Heights Park in the shadow of the 102 foot monument\, and below in Harman Park.&nbsp\;<br />\nDance to live German music throughout the day\, snack on some German and American food\, and refresh with Schell&#39\;s beer and 1919 Root Beer - on tap all day!<br />\nFestivities begin at 11:30 am&nbsp\;
LOCATION:Hermann Heights Park (10 Monument St.) & Harman Park (101 N Garden St)
UID:e.18.43260
SEQUENCE:3
DTSTAMP:20260423T052506Z
URL:http://business.newulm.com/events/details/hermann-fest-43260
END:VEVENT

END:VCALENDAR
