BEGIN:VCALENDAR
VERSION:2.0
PRODID:-//ChamberMaster//Event Calendar 2.0//EN
METHOD:PUBLISH
X-PUBLISHED-TTL:P3D
REFRESH-INTERVAL:P3D
CALSCALE:GREGORIAN
BEGIN:VEVENT
DTSTART:20221112T160000Z
DTEND:20221112T210000Z
X-MICROSOFT-CDO-ALLDAYEVENT:FALSE
SUMMARY:Gift Shop at the Wanda Gag House Open Today
DESCRIPTION:The Gift Shop at the Wanda Gag House will be open today! We have a great selection of gifts\, including books\, notecards\, t-shirts\, mugs\, cat decor and much more!
X-ALT-DESC;FMTTYPE=text/html:The Gift Shop at the Wanda Gag House will be open today! We have a great selection of gifts\, including books\, notecards\, t-shirts\, mugs\, cat decor and much more!
LOCATION:226 North Washington Street New Ulm\, MN 56073
UID:e.18.44567
SEQUENCE:3
DTSTAMP:20260422T160240Z
URL:http://business.newulm.com/events/details/gift-shop-at-the-wanda-gag-house-open-today-11-12-2022-44567
END:VEVENT

END:VCALENDAR
