BEGIN:VCALENDAR
VERSION:2.0
PRODID:-//ChamberMaster//Event Calendar 2.0//EN
METHOD:PUBLISH
X-PUBLISHED-TTL:P3D
REFRESH-INTERVAL:P3D
CALSCALE:GREGORIAN
BEGIN:VEVENT
DTSTART:20221104T140000Z
DTEND:20221105T230000Z
X-MICROSOFT-CDO-ALLDAYEVENT:FALSE
SUMMARY:Craft Show!
DESCRIPTION:Our annual holiday shopping opener! Location: 1017 South Washington St (in alley)\, New Ulm! **PLEASE NOTE\, THIS IS A NEW LOCATION FROM OUR PREVIOUS YEARS!!**
X-ALT-DESC;FMTTYPE=text/html:Our annual holiday shopping opener! Location: 1017 South Washington St (in alley)\, New Ulm! **PLEASE NOTE\, THIS IS A NEW LOCATION FROM OUR PREVIOUS YEARS!!**
LOCATION:1017 South Washington Street
UID:e.18.44617
SEQUENCE:3
DTSTAMP:20260422T151751Z
URL:http://business.newulm.com/events/details/craft-show-44617
END:VEVENT

END:VCALENDAR
