BEGIN:VCALENDAR
VERSION:2.0
PRODID:-//ChamberMaster//Event Calendar 2.0//EN
METHOD:PUBLISH
X-PUBLISHED-TTL:P3D
REFRESH-INTERVAL:P3D
CALSCALE:GREGORIAN
BEGIN:VEVENT
DTSTART:20231104T140000Z
DTEND:20231104T170000Z
X-MICROSOFT-CDO-ALLDAYEVENT:FALSE
SUMMARY:Country Store
DESCRIPTION:Fall Country Store and Bake sale. Selling baked goods\, crafts\, nuts\, pints and quarts of turkey supreme. Proceeds go to local missions and Operation Christmas Child.
X-ALT-DESC;FMTTYPE=text/html:Fall Country Store and Bake sale. Selling baked goods\, crafts\, nuts\, pints and quarts of turkey supreme. Proceeds go to local missions and Operation Christmas Child.
LOCATION:First United Methodist Church 1 North Broadway New Ulm
UID:e.18.46560
SEQUENCE:3
DTSTAMP:20260426T035228Z
URL:http://business.newulm.com/events/details/country-store-46560
END:VEVENT

END:VCALENDAR
