BEGIN:VCALENDAR
VERSION:2.0
PRODID:-//ChamberMaster//Event Calendar 2.0//EN
METHOD:PUBLISH
X-PUBLISHED-TTL:P3D
REFRESH-INTERVAL:P3D
CALSCALE:GREGORIAN
BEGIN:VEVENT
DTSTART:20241211T003000Z
DTEND:20241211T023000Z
X-MICROSOFT-CDO-ALLDAYEVENT:FALSE
SUMMARY:Cookie Decorating Class for Adults!
DESCRIPTION:Christmas Theme Cookies!\n\nLocal cookier Sammy's Sweets will teach participants how to use a variety of royal icing techniques to make cookie masterpieces!
X-ALT-DESC;FMTTYPE=text/html:<p style="text-align:center">Christmas Theme Cookies!<br />\nLocal cookier Sammy&rsquo\;s Sweets will teach participants how to use a variety of royal icing techniques to make cookie masterpieces!<br />\n&nbsp\;</p>\n
LOCATION:Washington Learning Center (door #1) Room #104
UID:e.18.47696
SEQUENCE:3
DTSTAMP:20260419T172214Z
URL:http://business.newulm.com/events/details/cookie-decorating-class-for-adults-12-10-2024-47696
END:VEVENT

END:VCALENDAR
