BEGIN:VCALENDAR
VERSION:2.0
PRODID:-//ChamberMaster//Event Calendar 2.0//EN
METHOD:PUBLISH
X-PUBLISHED-TTL:P3D
REFRESH-INTERVAL:P3D
CALSCALE:GREGORIAN
BEGIN:VEVENT
DTSTART:20230922T000000Z
DTEND:20230922T020000Z
X-MICROSOFT-CDO-ALLDAYEVENT:FALSE
SUMMARY:ArtHouse Film Series - Before Night Falls
DESCRIPTION:Before Night Falls (2000) follows the incredible journey though the life and work of late Cuban poet Reinaldo Arenas. Victimized by a government that banned his books and jailed him for a crime he didn't commit\, Reinaldo endured unspeakable persecution in a courageous stand against censorship and oppression. Without a country but not without integrity\, he fled to America where he continued to fight for personal expression and produced a stirring body of work. Javier Bardem\, Johnny Depp\, Olivier Martinez\, Andrea Di Stefano\, Santiago Magill\, Michael Wincott This event is free and all are welcome. Brought to you in partnership with the NU Film Society. Popcorn is served and a cash bar is available for purchase.
X-ALT-DESC;FMTTYPE=text/html:Before Night Falls (2000) follows the incredible journey though the life and work of late Cuban poet Reinaldo Arenas. Victimized by a government that banned his books and jailed him for a crime he didn&rsquo\;t commit\, Reinaldo endured unspeakable persecution in a courageous stand against censorship and oppression. Without a country but not without integrity\, he fled to America where he continued to fight for personal expression and produced a stirring body of work. Javier Bardem\, Johnny Depp\, Olivier Martinez\, Andrea Di Stefano\, Santiago Magill\, Michael Wincott This event is free and all are welcome. Brought to you in partnership with the NU Film Society. Popcorn is served and a cash bar is available for purchase.
LOCATION:The Grand Center for Arts & Culture 210 N. Minnesota St. New Ulm\, MN
UID:e.18.46417
SEQUENCE:3
DTSTAMP:20260422T044513Z
URL:http://business.newulm.com/events/details/arthouse-film-series-before-night-falls-46417
END:VEVENT

END:VCALENDAR
