BEGIN:VCALENDAR
VERSION:2.0
PRODID:-//ChamberMaster//Event Calendar 2.0//EN
METHOD:PUBLISH
X-PUBLISHED-TTL:P3D
REFRESH-INTERVAL:P3D
CALSCALE:GREGORIAN
BEGIN:VEVENT
DTSTART:20191206T003000Z
DTEND:20191206T013000Z
X-MICROSOFT-CDO-ALLDAYEVENT:FALSE
SUMMARY:Armstrong Boulevard Brass Quintet
DESCRIPTION:The Armstrong Boulevard Brass Quintet will perform on Thursday\, December 5 at 6:30 p.m. at New Ulm Public Library. The quintet\, which includes members Craig Brenden\, Thomas Bierer\, Steve Spieker\, Dave Stordalen and Al Tonn\, will play holiday-themed music that is filled with hope\, energy and fun. Call 507-359-8331 for more information on this free public program. Seating is first come\, first served.
X-ALT-DESC;FMTTYPE=text/html:The Armstrong Boulevard Brass Quintet will perform on Thursday\, December 5 at 6:30 p.m. at New Ulm Public Library. The quintet\, which includes members Craig Brenden\, Thomas Bierer\, Steve Spieker\, Dave Stordalen and Al Tonn\, will play holiday-themed music that is filled with hope\, energy and fun. Call 507-359-8331 for more information on this free public program. Seating is first come\, first served.
LOCATION:New Ulm Public Library 17 N Broadway
UID:e.18.38389
SEQUENCE:3
DTSTAMP:20260423T143009Z
URL:http://business.newulm.com/events/details/armstrong-boulevard-brass-quintet-38389
END:VEVENT

END:VCALENDAR
