BEGIN:VCALENDAR
VERSION:2.0
PRODID:-//ChamberMaster//Event Calendar 2.0//EN
METHOD:PUBLISH
X-PUBLISHED-TTL:P3D
REFRESH-INTERVAL:P3D
CALSCALE:GREGORIAN
BEGIN:VEVENT
DTSTART:20191013T003000Z
DTEND:20191013T033000Z
X-MICROSOFT-CDO-ALLDAYEVENT:FALSE
SUMMARY:Ben Marti Trio
DESCRIPTION:We are excited to welcome back the Ben Marti Trio\, featuring Ben Marti on piano\, Jame Ihrke on bass & Tom Bierer on trumpet.
X-ALT-DESC;FMTTYPE=text/html:<span style="color:rgba(29\, 29\, 29\, 0.7)\; font-family:rubik\; font-size:18px">We are excited to welcome back the Ben Marti Trio\, featuring Ben Marti on piano\, Jame Ihrke on bass &amp\; Tom Bierer on trumpet.</span>
LOCATION:The Grand Kabaret
UID:e.18.38352
SEQUENCE:3
DTSTAMP:20260421T035422Z
URL:http://business.newulm.com/events/details/armstrong-blvd-brass-quintet-38352
END:VEVENT

END:VCALENDAR
